BEGIN:VCALENDAR
PRODID:-//Swiss Orienteering Calendar
VERSION:2.0
METHOD:PUBLISH
CALSCALE:GREGORIAN
X-WR-CALNAME:Swiss Orienteering Calendar
X-WR-TIMEZONE:Europe/Zurich
BEGIN:VEVENT
DTSTART;VALUE=DATE:20220326
DTEND;VALUE=DATE:20220327
DTSTAMP:20220317T213250Z
LAST-MODIFIED:20220317T213250Z
CREATED:20220301T121606Z
SUMMARY:5. Biberister Bike-OL (Langdistanz) - OLG Biberist SO (SC301)
DESCRIPTION:Region: BE/SO\nKarte: Pfaffenweiher-Gensberg-Tannhubel\nOrt: W
 angenried\nKoordinaten: 616675 / 229550\nGeo-Koordinaten: 47.2166718185099
 , 7.65876909747018\nKarte search.ch: https://map.search.ch/616675,229550?z
 =64\nGoogle Maps: https://maps.google.ch/maps?q=47.2166718185099,7.6587690
 9747018\nVeranstalter: OLG Biberist SO\nVeranstalter-Link: https://olgbibe
 ristso.ch/news/bike-ol-in-wangenried-26-3-2022/\nMeldeschluss: Mi 23.03.20
 22\nAnmeldeportal: https://entry.picoevents.ch/ \nTerminliste-Details: htt
 ps://www.o-l.ch/cgi-bin/fixtures?&mode=show&unique_id=11729
CATEGORIES:swiss orienteering,OL,Bike
LOCATION:Wangenried
GEO:47.2166718185099;7.65876909747018
CLASS:PUBLIC
STATUS:CONFIRMED
SEQUENCE:0
UID:fixtures-11729@o-l.ch
URL:https://www.o-l.ch/cgi-bin/fixtures?&mode=show&unique_id=11729
TRANSP:TRANSPARENT
END:VEVENT
BEGIN:VEVENT
DTSTART;VALUE=DATE:20220430
DTEND;VALUE=DATE:20220501
DTSTAMP:20220407T134728Z
LAST-MODIFIED:20220407T134728Z
CREATED:20220218T152900Z
SUMMARY:9. Winterthurer Bike OL - OLC Winterthur (SC302)
DESCRIPTION:Region: ZH/SH\nKarte: Eschenberg\nOrt: Winterthur\nVeranstalte
 r: OLC Winterthur\nVeranstalter-Link: https://www.olcw.ch/bike-ol.html\nMe
 ldeschluss: Mo 25.04.2022\nAnmeldeportal: https://entry.picoevents.ch/ \nT
 erminliste-Details: https://www.o-l.ch/cgi-bin/fixtures?&mode=show&unique_
 id=11708
CATEGORIES:swiss orienteering,OL,Bike
LOCATION:Winterthur
CLASS:PUBLIC
STATUS:CONFIRMED
SEQUENCE:0
UID:fixtures-11708@o-l.ch
URL:https://www.o-l.ch/cgi-bin/fixtures?&mode=show&unique_id=11708
TRANSP:TRANSPARENT
END:VEVENT
BEGIN:VEVENT
DTSTART;VALUE=DATE:20220507
DTEND;VALUE=DATE:20220508
DTSTAMP:20220505T101216Z
LAST-MODIFIED:20220505T101216Z
CREATED:20220301T144132Z
SUMMARY:Bike-OL Franz. Meisterschaften Sprint - CO Buhl et Florival (SC303
 )
DESCRIPTION:Region: AUSL.\nKarte: Wuenheim \nOrt: Soultz (Elsass, Frankrei
 ch)\nKoordinaten: 583379 / 302805\nGeo-Koordinaten: 47.8755047059836, 7.21
 648284016004\nKarte search.ch: https://map.search.ch/583379,302805?z=64\nG
 oogle Maps: https://maps.google.ch/maps?q=47.8755047059836,7.2164828401600
 4\nVeranstalter: CO Buhl et Florival\nVeranstalter-Link: https://velbossit
 y.ch/bike2022/elsass.htm\nAnmeldeportal: https://entry.picoevents.ch/ \nTe
 rminliste-Details: https://www.o-l.ch/cgi-bin/fixtures?&mode=show&unique_i
 d=11733
CATEGORIES:swiss orienteering,OL,Bike
LOCATION:Soultz (Elsass, Frankreich)
GEO:47.8755047059836;7.21648284016004
CLASS:PUBLIC
STATUS:CONFIRMED
SEQUENCE:0
UID:fixtures-11733@o-l.ch
URL:https://www.o-l.ch/cgi-bin/fixtures?&mode=show&unique_id=11733
TRANSP:TRANSPARENT
END:VEVENT
BEGIN:VEVENT
DTSTART;VALUE=DATE:20220508
DTEND;VALUE=DATE:20220509
DTSTAMP:20220505T101232Z
LAST-MODIFIED:20220505T101232Z
CREATED:20220301T144333Z
SUMMARY:Bike-OL Franz. Meisterschaften Langdistanz - CO Buhl et Florival (
 SC304)
DESCRIPTION:Region: AUSL.\nKarte: Bergholtz\nOrt: Bergholtz (Elsass, Frank
 reich)\nKoordinaten: 585450 / 307544\nGeo-Koordinaten: 47.9181691330762, 7
 .24400661685412\nKarte search.ch: https://map.search.ch/585450,307544?z=64
 \nGoogle Maps: https://maps.google.ch/maps?q=47.9181691330762,7.2440066168
 5412\nVeranstalter: CO Buhl et Florival\nVeranstalter-Link: https://velbos
 sity.ch/bike2022/elsass.htm\nAnmeldeportal: https://entry.picoevents.ch/ \
 nTerminliste-Details: https://www.o-l.ch/cgi-bin/fixtures?&mode=show&uniqu
 e_id=11734
CATEGORIES:swiss orienteering,OL,Bike
LOCATION:Bergholtz (Elsass, Frankreich)
GEO:47.9181691330762;7.24400661685412
CLASS:PUBLIC
STATUS:CONFIRMED
SEQUENCE:0
UID:fixtures-11734@o-l.ch
URL:https://www.o-l.ch/cgi-bin/fixtures?&mode=show&unique_id=11734
TRANSP:TRANSPARENT
END:VEVENT
BEGIN:VEVENT
DTSTART;VALUE=DATE:20220924
DTEND;VALUE=DATE:20220925
DTSTAMP:20220830T003332Z
LAST-MODIFIED:20220830T003332Z
CREATED:20220301T144701Z
SUMMARY:Dachsener Bike-OL - Langdistanz SM - OLG Dachsen (SC305)
DESCRIPTION:Region: ZH/SH\nKarte: Cholfirst\nKoordinaten: 691400 / 280950\
 nGeo-Koordinaten: 47.6728037732592, 8.65566483457678\nKarte search.ch: htt
 ps://map.search.ch/691400,280950?z=64\nGoogle Maps: https://maps.google.ch
 /maps?q=47.6728037732592,8.65566483457678\nVeranstalter: OLG Dachsen\nVera
 nstalter-Link: https://www.olgdachsen.ch/?page_id=2311\nMeldeschluss: Mo 1
 9.09.2022\nAnmeldeportal: https://entry.picoevents.ch/ \nTerminliste-Detai
 ls: https://www.o-l.ch/cgi-bin/fixtures?&mode=show&unique_id=11735
CATEGORIES:swiss orienteering,OL,Bike
LOCATION:Cholfirst
GEO:47.6728037732592;8.65566483457678
CLASS:PUBLIC
STATUS:CONFIRMED
SEQUENCE:0
UID:fixtures-11735@o-l.ch
URL:https://www.o-l.ch/cgi-bin/fixtures?&mode=show&unique_id=11735
TRANSP:TRANSPARENT
END:VEVENT
BEGIN:VEVENT
DTSTART;VALUE=DATE:20220925
DTEND;VALUE=DATE:20220926
DTSTAMP:20220830T003031Z
LAST-MODIFIED:20220830T003031Z
CREATED:20220301T150045Z
SUMMARY:10. Argus O&#39;Bikers Bike-OL - OLK Argus (SC306)
DESCRIPTION:Region: AG\nKarte: Buechwald\nKoordinaten: 645900 / 251900\nGe
 o-Koordinaten: 47.4163082315694, 8.04685301561135\nKarte search.ch: https:
 //map.search.ch/645900,251900?z=64\nGoogle Maps: https://maps.google.ch/ma
 ps?q=47.4163082315694,8.04685301561135\nVeranstalter: OLK Argus\nVeranstal
 ter-Link: https://entry.picoevents.ch\nAnmeldeportal: https://entry.picoev
 ents.ch/ \nTerminliste-Details: https://www.o-l.ch/cgi-bin/fixtures?&mode=
 show&unique_id=11744
CATEGORIES:swiss orienteering,OL,Bike
LOCATION:Buechwald
GEO:47.4163082315694;8.04685301561135
CLASS:PUBLIC
STATUS:CONFIRMED
SEQUENCE:0
UID:fixtures-11744@o-l.ch
URL:https://www.o-l.ch/cgi-bin/fixtures?&mode=show&unique_id=11744
TRANSP:TRANSPARENT
END:VEVENT
BEGIN:VEVENT
DTSTART;VALUE=DATE:20221029
DTEND;VALUE=DATE:20221030
DTSTAMP:20221012T170336Z
LAST-MODIFIED:20221012T170336Z
CREATED:20220301T145705Z
SUMMARY:Ostschweizer Bike-OL - Mitteldistanz SM &amp; Schlusslauf Sw - Bik
 e O Ostschweiz (SC307)
DESCRIPTION:Region: NOS\nKarte: Seerücken\nOrt: Salenstein\nKoordinaten: 7
 21726 / 280770\nGeo-Koordinaten: 47.6662553432138, 9.05932293102812\nKarte
  search.ch: https://map.search.ch/721726,280770?z=64\nGoogle Maps: https:/
 /maps.google.ch/maps?q=47.6662553432138,9.05932293102812\nVeranstalter: Bi
 ke O Ostschweiz\nVeranstalter-Link: https://velbossity.ch/wp-content/uploa
 ds/2022/09/2022AUSOstschweizerBike-OL.pdf\nAnmeldeportal: https://entry.pi
 coevents.ch/ \nTerminliste-Details: https://www.o-l.ch/cgi-bin/fixtures?&m
 ode=show&unique_id=11741
CATEGORIES:swiss orienteering,OL,Bike
LOCATION:Salenstein
GEO:47.6662553432138;9.05932293102812
CLASS:PUBLIC
STATUS:CONFIRMED
SEQUENCE:0
UID:fixtures-11741@o-l.ch
URL:https://www.o-l.ch/cgi-bin/fixtures?&mode=show&unique_id=11741
TRANSP:TRANSPARENT
END:VEVENT
END:VCALENDAR
