BEGIN:VCALENDAR
PRODID:-//Swiss Orienteering Calendar
VERSION:2.0
METHOD:PUBLISH
CALSCALE:GREGORIAN
X-WR-CALNAME:Swiss Orienteering Calendar
X-WR-TIMEZONE:Europe/Zurich
BEGIN:VEVENT
DTSTART;VALUE=DATE:20140426
DTEND;VALUE=DATE:20140427
DTSTAMP:20140307T223831Z
LAST-MODIFIED:20140307T223831Z
CREATED:20140125T173424Z
SUMMARY:1. Wertung Bike-OL Swiss Cup/Franz. Meisterschaften Middle - Balis
 e 25 Besançon (306)
DESCRIPTION:Region: NWS\nKarte: Forêt de Chailluz\nOrt: Besançon\nVeransta
 lter: Balise 25 Besançon\nVeranstalter-Link: http://www.balise25.fr/france
 vtt2014.htm\nMeldeschluss: Do 10.04.2014\nTerminliste-Details: https://www
 .o-l.ch/cgi-bin/fixtures?&mode=show&unique_id=7422
CATEGORIES:swiss orienteering,OL,Bike
LOCATION:Besançon
CLASS:PUBLIC
STATUS:CONFIRMED
SEQUENCE:0
UID:fixtures-7422@o-l.ch
URL:https://www.o-l.ch/cgi-bin/fixtures?&mode=show&unique_id=7422
TRANSP:TRANSPARENT
END:VEVENT
BEGIN:VEVENT
DTSTART;VALUE=DATE:20140510
DTEND;VALUE=DATE:20140511
DTSTAMP:20140307T005725Z
LAST-MODIFIED:20140307T005725Z
CREATED:20131021T234511Z
SUMMARY:17. Bike-OL Bern / SM Langdistanz - Verein Bike-OL Bern (302)
DESCRIPTION:Region: BE/SO\nKarte: Frienisberg\nOrt: Wahlendorf BE\nKoordin
 aten: 592400 / 205950\nGeo-Koordinaten: 47.0045587747279, 7.33870369414936
 \nKarte search.ch: https://map.search.ch/592400,205950?z=64\nGoogle Maps: 
 https://maps.google.ch/maps?q=47.0045587747279,7.33870369414936\nVeranstal
 ter: Verein Bike-OL Bern\nVeranstalter-Link: http://entry.picotiming.ch\nM
 eldeschluss: Mo 05.05.2014\nAnmeldeportal: https://entry.picoevents.ch/ \n
 Terminliste-Details: https://www.o-l.ch/cgi-bin/fixtures?&mode=show&unique
 _id=7238
CATEGORIES:swiss orienteering,OL,Bike
LOCATION:Wahlendorf BE
GEO:47.0045587747279;7.33870369414936
CLASS:PUBLIC
STATUS:CONFIRMED
SEQUENCE:0
UID:fixtures-7238@o-l.ch
URL:https://www.o-l.ch/cgi-bin/fixtures?&mode=show&unique_id=7238
TRANSP:TRANSPARENT
END:VEVENT
BEGIN:VEVENT
DTSTART;VALUE=DATE:20140529
DTEND;VALUE=DATE:20140530
DTSTAMP:20140125T171913Z
LAST-MODIFIED:20140125T171913Z
CREATED:20140116T000358Z
SUMMARY:8. Bike-OL Jugend Camp - Bike-OL Kommission
DESCRIPTION:Region: BE/SO\nKarte: Köniz BE\nOrt: Köniz BE\nVeranstalter: B
 ike-OL Kommission\nVeranstalter-Link: http://www.swiss-orienteering.ch/ind
 ex.php?option=com_content&task=view&id=279&Itemid=296\nTerminliste-Details
 : https://www.o-l.ch/cgi-bin/fixtures?&mode=show&unique_id=7395
CATEGORIES:swiss orienteering,OL,Bike
LOCATION:Köniz BE
CLASS:PUBLIC
STATUS:CONFIRMED
SEQUENCE:0
UID:fixtures-7395@o-l.ch
URL:https://www.o-l.ch/cgi-bin/fixtures?&mode=show&unique_id=7395
TRANSP:TRANSPARENT
END:VEVENT
BEGIN:VEVENT
DTSTART;VALUE=DATE:20140530
DTEND;VALUE=DATE:20140531
DTSTAMP:20140125T171847Z
LAST-MODIFIED:20140125T171847Z
CREATED:20140116T000512Z
SUMMARY:8. Bike-OL Jugend Camp - Bike-OL Kommission
DESCRIPTION:Region: BE/SO\nKarte: Köniz BE\nOrt: Köniz BE\nVeranstalter: B
 ike-OL Kommission\nVeranstalter-Link: http://www.swiss-orienteering.ch/ind
 ex.php?option=com_content&task=view&id=279&Itemid=296\nTerminliste-Details
 : https://www.o-l.ch/cgi-bin/fixtures?&mode=show&unique_id=7396
CATEGORIES:swiss orienteering,OL,Bike
LOCATION:Köniz BE
CLASS:PUBLIC
STATUS:CONFIRMED
SEQUENCE:0
UID:fixtures-7396@o-l.ch
URL:https://www.o-l.ch/cgi-bin/fixtures?&mode=show&unique_id=7396
TRANSP:TRANSPARENT
END:VEVENT
BEGIN:VEVENT
DTSTART;VALUE=DATE:20140531
DTEND;VALUE=DATE:20140601
DTSTAMP:20140125T171956Z
LAST-MODIFIED:20140125T171956Z
CREATED:20140116T000718Z
SUMMARY:8. Bike-OL Jugend Camp - Bike-OL Kommission
DESCRIPTION:Region: BE/SO\nKarte: Köniz BE\nOrt: Köniz BE\nVeranstalter: B
 ike-OL Kommission\nVeranstalter-Link: http://www.swiss-orienteering.ch/ind
 ex.php?option=com_content&task=view&id=279&Itemid=296\nTerminliste-Details
 : https://www.o-l.ch/cgi-bin/fixtures?&mode=show&unique_id=7398
CATEGORIES:swiss orienteering,OL,Bike
LOCATION:Köniz BE
CLASS:PUBLIC
STATUS:CONFIRMED
SEQUENCE:0
UID:fixtures-7398@o-l.ch
URL:https://www.o-l.ch/cgi-bin/fixtures?&mode=show&unique_id=7398
TRANSP:TRANSPARENT
END:VEVENT
BEGIN:VEVENT
DTSTART;VALUE=DATE:20140601
DTEND;VALUE=DATE:20140602
DTSTAMP:20140125T172038Z
LAST-MODIFIED:20140125T172038Z
CREATED:20140116T000829Z
SUMMARY:8. Bike-OL Jugend Camp - Bike-OL Kommission
DESCRIPTION:Region: BE/SO\nKarte: Köniz BE\nOrt: Köniz BE\nVeranstalter: B
 ike-OL Kommission\nVeranstalter-Link: http://www.swiss-orienteering.ch/ind
 ex.php?option=com_content&task=view&id=279&Itemid=296\nTerminliste-Details
 : https://www.o-l.ch/cgi-bin/fixtures?&mode=show&unique_id=7399
CATEGORIES:swiss orienteering,OL,Bike
LOCATION:Köniz BE
CLASS:PUBLIC
STATUS:CONFIRMED
SEQUENCE:0
UID:fixtures-7399@o-l.ch
URL:https://www.o-l.ch/cgi-bin/fixtures?&mode=show&unique_id=7399
TRANSP:TRANSPARENT
END:VEVENT
BEGIN:VEVENT
DTSTART;VALUE=DATE:20140614
DTEND;VALUE=DATE:20140615
DTSTAMP:20140603T163053Z
LAST-MODIFIED:20140603T163053Z
CREATED:20140116T000132Z
SUMMARY:Ostschweizer Bike-OL - OK Ostschweizer Bike-OL (304)
DESCRIPTION:Region: NOS\nKarte: Seerücken\nOrt: Ermatingen\nKoordinaten: 7
 23550 / 280975\nGeo-Koordinaten: 47.6677573416595, 9.08365852939376\nKarte
  search.ch: https://map.search.ch/723550,280975?z=64\nGoogle Maps: https:/
 /maps.google.ch/maps?q=47.6677573416595,9.08365852939376\nVeranstalter: OK
  Ostschweizer Bike-OL\nVeranstalter-Link: http://mtbo.weebly.com/uploads/1
 /5/9/9/15996872/ausschreibung_ostschweizer_bike_ol_final.pdf\nMeldeschluss
 : Mo 09.06.2014\nAnmeldeportal: https://entry.picoevents.ch/ \nTerminliste
 -Details: https://www.o-l.ch/cgi-bin/fixtures?&mode=show&unique_id=7394
CATEGORIES:swiss orienteering,OL,Bike
LOCATION:Ermatingen
GEO:47.6677573416595;9.08365852939376
CLASS:PUBLIC
STATUS:CONFIRMED
SEQUENCE:0
UID:fixtures-7394@o-l.ch
URL:https://www.o-l.ch/cgi-bin/fixtures?&mode=show&unique_id=7394
TRANSP:TRANSPARENT
END:VEVENT
BEGIN:VEVENT
DTSTART;VALUE=DATE:20140622
DTEND;VALUE=DATE:20140623
DTSTAMP:20140527T193400Z
LAST-MODIFIED:20140527T193400Z
CREATED:20140319T102401Z
SUMMARY:1. Biberister Bike-OL / SM Mitteldistanz - OLG Biberist SO (308)
DESCRIPTION:Region: BE/SO\nKarte: Martinsflue-Leewald\nOrt: Rüttenen SO\nK
 oordinaten: 607175 / 231350\nGeo-Koordinaten: 47.2330335805695, 7.53338551
 15193\nKarte search.ch: https://map.search.ch/607175,231350?z=64\nGoogle M
 aps: https://maps.google.ch/maps?q=47.2330335805695,7.5333855115193\nVeran
 stalter: OLG Biberist SO\nVeranstalter-Link: http://www.olgbiberistso.ch/t
 ermine/biberister-ol\nMeldeschluss: Fr 13.06.2014\nAnmeldeportal:  \nTermi
 nliste-Details: https://www.o-l.ch/cgi-bin/fixtures?&mode=show&unique_id=7
 472
CATEGORIES:swiss orienteering,OL,Bike
LOCATION:Rüttenen SO
GEO:47.2330335805695;7.5333855115193
CLASS:PUBLIC
STATUS:CONFIRMED
SEQUENCE:0
UID:fixtures-7472@o-l.ch
URL:https://www.o-l.ch/cgi-bin/fixtures?&mode=show&unique_id=7472
TRANSP:TRANSPARENT
END:VEVENT
BEGIN:VEVENT
DTSTART;VALUE=DATE:20140831
DTEND;VALUE=DATE:20140901
DTSTAMP:20140731T220830Z
LAST-MODIFIED:20140731T220830Z
CREATED:20131218T101505Z
SUMMARY:4. Welsi Bike-OL - OLG Welsikon (305)
DESCRIPTION:Region: ZH/SH\nKarte: Bergbuck\nOrt: Schulhaus Andelfingen\nKo
 ordinaten: 693000 / 272575\nGeo-Koordinaten: 47.5972677123922, 8.675210363
 94679\nKarte search.ch: https://map.search.ch/693000,272575?z=64\nGoogle M
 aps: https://maps.google.ch/maps?q=47.5972677123922,8.67521036394679\nVera
 nstalter: OLG Welsikon\nVeranstalter-Link: http://mtbo.weebly.com/uploads/
 1/5/9/9/15996872/ausschreibung_bike-o_31.8.14.pdf\nAnmeldeportal: https://
 entry.picoevents.ch/ \nTerminliste-Details: https://www.o-l.ch/cgi-bin/fix
 tures?&mode=show&unique_id=7351
CATEGORIES:swiss orienteering,OL,Bike
LOCATION:Schulhaus Andelfingen
GEO:47.5972677123922;8.67521036394679
CLASS:PUBLIC
STATUS:CONFIRMED
SEQUENCE:0
UID:fixtures-7351@o-l.ch
URL:https://www.o-l.ch/cgi-bin/fixtures?&mode=show&unique_id=7351
TRANSP:TRANSPARENT
END:VEVENT
BEGIN:VEVENT
DTSTART;VALUE=DATE:20140906
DTEND;VALUE=DATE:20140907
DTSTAMP:20140624T003436Z
LAST-MODIFIED:20140624T003436Z
CREATED:20140125T172554Z
SUMMARY:Freiburger Bike-OL - OLC Omström/NWK FR (307)
DESCRIPTION:Region: BE/SO\nKarte: Dorfwald/Allmithubel\nOrt: Schwarzenburg
  BE\nKoordinaten: 593050 / 185250\nGeo-Koordinaten: 46.8183642385024, 7.34
 756647018117\nKarte search.ch: https://map.search.ch/593050,185250?z=64\nG
 oogle Maps: https://maps.google.ch/maps?q=46.8183642385024,7.3475664701811
 7\nVeranstalter: OLC Omström/NWK FR\nVeranstalter-Link: http://www.omstrom
 .ch\nMeldeschluss: So 31.08.2014\nAnmeldeportal: https://entry.picoevents.
 ch/ \nTerminliste-Details: https://www.o-l.ch/cgi-bin/fixtures?&mode=show&
 unique_id=7419
CATEGORIES:swiss orienteering,OL,Bike
LOCATION:Schwarzenburg BE
GEO:46.8183642385024;7.34756647018117
CLASS:PUBLIC
STATUS:CONFIRMED
SEQUENCE:0
UID:fixtures-7419@o-l.ch
URL:https://www.o-l.ch/cgi-bin/fixtures?&mode=show&unique_id=7419
TRANSP:TRANSPARENT
END:VEVENT
BEGIN:VEVENT
DTSTART;VALUE=DATE:20140920
DTEND;VALUE=DATE:20140921
DTSTAMP:20140910T220855Z
LAST-MODIFIED:20140910T220855Z
CREATED:20131024T225057Z
SUMMARY:8. VTT-O Neuchâtel - ANCO (301)
DESCRIPTION:Region: SR\nKarte: Serroue\nOrt: Corcelles \nKoordinaten: 5571
 25 / 203800\nGeo-Koordinaten: 46.9838782070476, 6.87507972145757\nKarte se
 arch.ch: https://map.search.ch/557125,203800?z=64\nGoogle Maps: https://ma
 ps.google.ch/maps?q=46.9838782070476,6.87507972145757\nVeranstalter: ANCO\
 nVeranstalter-Link: http://mtbo.weebly.com/uploads/1/5/9/9/15996872/annonc
 e-de-course2014_v3.pdf\nMeldeschluss: Mo 15.09.2014\nAnmeldeportal: https:
 //entry.picoevents.ch/ \nTerminliste-Details: https://www.o-l.ch/cgi-bin/f
 ixtures?&mode=show&unique_id=7244
CATEGORIES:swiss orienteering,OL,Bike
LOCATION:Corcelles 
GEO:46.9838782070476;6.87507972145757
CLASS:PUBLIC
STATUS:CONFIRMED
SEQUENCE:0
UID:fixtures-7244@o-l.ch
URL:https://www.o-l.ch/cgi-bin/fixtures?&mode=show&unique_id=7244
TRANSP:TRANSPARENT
END:VEVENT
BEGIN:VEVENT
DTSTART;VALUE=DATE:20140921
DTEND;VALUE=DATE:20140922
DTSTAMP:20140613T115822Z
LAST-MODIFIED:20140613T115822Z
CREATED:20131111T154758Z
SUMMARY:8. Bike-OL Thun  - OLG Thun (303)
DESCRIPTION:Region: BE/SO\nKarte: Hubewald\nOrt: Wichtrach BE\nKoordinaten
 : 610650 / 188850\nGeo-Koordinaten: 46.8506985940211, 7.57827553279452\nKa
 rte search.ch: https://map.search.ch/610650,188850?z=64\nGoogle Maps: http
 s://maps.google.ch/maps?q=46.8506985940211,7.57827553279452\nVeranstalter:
  OLG Thun\nVeranstalter-Link: http://mtbo.weebly.com/bike-ol-thun-2014.htm
 l\nMeldeschluss: Mo 15.09.2014\nAnmeldeportal: https://entry.picoevents.ch
 / \nTerminliste-Details: https://www.o-l.ch/cgi-bin/fixtures?&mode=show&un
 ique_id=7305
CATEGORIES:swiss orienteering,OL,Bike
LOCATION:Wichtrach BE
GEO:46.8506985940211;7.57827553279452
CLASS:PUBLIC
STATUS:CONFIRMED
SEQUENCE:0
UID:fixtures-7305@o-l.ch
URL:https://www.o-l.ch/cgi-bin/fixtures?&mode=show&unique_id=7305
TRANSP:TRANSPARENT
END:VEVENT
END:VCALENDAR
