BEGIN:VCALENDAR
PRODID:-//Swiss Orienteering Calendar
VERSION:2.0
METHOD:PUBLISH
CALSCALE:GREGORIAN
X-WR-CALNAME:Swiss Orienteering Calendar
X-WR-TIMEZONE:Europe/Zurich
BEGIN:VEVENT
DTSTART;VALUE=DATE:20050424
DTEND;VALUE=DATE:20050425
DTSTAMP:20050418T215756Z
LAST-MODIFIED:20050418T215756Z
CREATED:20041028T000000Z
SUMMARY:Bike-O Gruyères  *ABGESAGT* - Care Vevey Orientation (302)
DESCRIPTION:Region: SR\nKarte: Gruyères /Bulle\nVeranstalter: Care Vevey O
 rientation\nVeranstalter-Link: http://www.care-vevey-orientation.ch/infos/
 index.php\nTerminliste-Details: https://www.o-l.ch/cgi-bin/fixtures?&mode=
 show&unique_id=2897
CATEGORIES:swiss orienteering,OL,Bike
LOCATION:Gruyères /Bulle
CLASS:PUBLIC
STATUS:CONFIRMED
SEQUENCE:0
UID:fixtures-2897@o-l.ch
URL:https://www.o-l.ch/cgi-bin/fixtures?&mode=show&unique_id=2897
TRANSP:TRANSPARENT
END:VEVENT
BEGIN:VEVENT
DTSTART;VALUE=DATE:20050528
DTEND;VALUE=DATE:20050529
DTSTAMP:20050308T133747Z
LAST-MODIFIED:20050308T133747Z
CREATED:20041026T000000Z
SUMMARY:Bike-O Bern (klass. verkürzt) - Bike-O Swiss (303)
DESCRIPTION:Region: BE/SO\nKarte: Grauholz-Zollikofen\nOrt: Urtenen-Schönb
 ühl\nVeranstalter: Bike-O Swiss\nTerminliste-Details: https://www.o-l.ch/c
 gi-bin/fixtures?&mode=show&unique_id=2868
CATEGORIES:swiss orienteering,OL,Bike
LOCATION:Urtenen-Schönbühl
CLASS:PUBLIC
STATUS:CONFIRMED
SEQUENCE:0
UID:fixtures-2868@o-l.ch
URL:https://www.o-l.ch/cgi-bin/fixtures?&mode=show&unique_id=2868
TRANSP:TRANSPARENT
END:VEVENT
BEGIN:VEVENT
DTSTART;VALUE=DATE:20050529
DTEND;VALUE=DATE:20050530
DTSTAMP:20050308T133945Z
LAST-MODIFIED:20050308T133945Z
CREATED:20041026T000000Z
SUMMARY:Bike-O Bern (klass.) - Bike-O Swiss (304)
DESCRIPTION:Region: BE/SO\nKarte: Jegenstorf West\nOrt: Urtenen-Schönbühl\
 nVeranstalter: Bike-O Swiss\nTerminliste-Details: https://www.o-l.ch/cgi-b
 in/fixtures?&mode=show&unique_id=2869
CATEGORIES:swiss orienteering,OL,Bike
LOCATION:Urtenen-Schönbühl
CLASS:PUBLIC
STATUS:CONFIRMED
SEQUENCE:0
UID:fixtures-2869@o-l.ch
URL:https://www.o-l.ch/cgi-bin/fixtures?&mode=show&unique_id=2869
TRANSP:TRANSPARENT
END:VEVENT
BEGIN:VEVENT
DTSTART;VALUE=DATE:20050604
DTEND;VALUE=DATE:20050605
DTSTAMP:20041222T233200Z
LAST-MODIFIED:20041222T233200Z
CREATED:20040713T000000Z
SUMMARY:Bike-O Staffel-Schweizermeisterschaft - OL Regio Wil (305)
DESCRIPTION:Region: ZH/SH\nOrt: Winterthur\nVeranstalter: OL Regio Wil\nVe
 ranstalter-Link: http://www.olcw.ch/termine/bikeo.php\nTerminliste-Details
 : https://www.o-l.ch/cgi-bin/fixtures?&mode=show&unique_id=2773
CATEGORIES:swiss orienteering,OL,Bike
LOCATION:Winterthur
CLASS:PUBLIC
STATUS:CONFIRMED
SEQUENCE:0
UID:fixtures-2773@o-l.ch
URL:https://www.o-l.ch/cgi-bin/fixtures?&mode=show&unique_id=2773
TRANSP:TRANSPARENT
END:VEVENT
BEGIN:VEVENT
DTSTART;VALUE=DATE:20050605
DTEND;VALUE=DATE:20050606
DTSTAMP:20050318T111117Z
LAST-MODIFIED:20050318T111117Z
CREATED:20040713T000000Z
SUMMARY:Bike-O Schweizermeisterschaft (klass.) - OLC Winterthur (306)
DESCRIPTION:Region: ZH/SH\nKarte: Schauenberg MTB-O Karte\nOrt: Winterthur
 \nVeranstalter: OLC Winterthur\nVeranstalter-Link: http://www.olcw.ch/term
 ine/bikeo.php\nTerminliste-Details: https://www.o-l.ch/cgi-bin/fixtures?&m
 ode=show&unique_id=2884
CATEGORIES:swiss orienteering,OL,Bike
LOCATION:Winterthur
CLASS:PUBLIC
STATUS:CONFIRMED
SEQUENCE:0
UID:fixtures-2884@o-l.ch
URL:https://www.o-l.ch/cgi-bin/fixtures?&mode=show&unique_id=2884
TRANSP:TRANSPARENT
END:VEVENT
BEGIN:VEVENT
DTSTART;VALUE=DATE:20050820
DTEND;VALUE=DATE:20050821
DTSTAMP:20041222T233338Z
LAST-MODIFIED:20041222T233338Z
CREATED:20041115T000000Z
SUMMARY:1. Bike-O Steffisburg - RC Steffisburg (307)
DESCRIPTION:Region: BE/SO\nKarte: Hartlisberg\nOrt: Schiessstand Schnittwe
 ier\nVeranstalter: RC Steffisburg\nVeranstalter-Link: http://www.rcsteffis
 burg.ch/termine/BikeO_2005.htm\nTerminliste-Details: https://www.o-l.ch/cg
 i-bin/fixtures?&mode=show&unique_id=2775
CATEGORIES:swiss orienteering,OL,Bike
LOCATION:Schiessstand Schnittweier
CLASS:PUBLIC
STATUS:CONFIRMED
SEQUENCE:0
UID:fixtures-2775@o-l.ch
URL:https://www.o-l.ch/cgi-bin/fixtures?&mode=show&unique_id=2775
TRANSP:TRANSPARENT
END:VEVENT
BEGIN:VEVENT
DTSTART;VALUE=DATE:20050924
DTEND;VALUE=DATE:20050925
DTSTAMP:20041222T233655Z
LAST-MODIFIED:20041222T233655Z
CREATED:20041222T000000Z
SUMMARY:1. Bike-O Biel - SSC Biel (309)
DESCRIPTION:Region: BE/SO\nVeranstalter: SSC Biel\nVeranstalter-Link: http
 ://www.ediprim.ch/medien/BikeO.pdf\nTerminliste-Details: https://www.o-l.c
 h/cgi-bin/fixtures?&mode=show&unique_id=2778
CATEGORIES:swiss orienteering,OL,Bike
CLASS:PUBLIC
STATUS:CONFIRMED
SEQUENCE:0
UID:fixtures-2778@o-l.ch
URL:https://www.o-l.ch/cgi-bin/fixtures?&mode=show&unique_id=2778
TRANSP:TRANSPARENT
END:VEVENT
BEGIN:VEVENT
DTSTART;VALUE=DATE:20050925
DTEND;VALUE=DATE:20050926
DTSTAMP:20041222T233442Z
LAST-MODIFIED:20041222T233442Z
CREATED:20041117T000000Z
SUMMARY:Bike-O Val-de-Ruz - ANCO (301)
DESCRIPTION:Region: SR\nKarte: CN 1:25'000 Val-de-Ruz\nOrt: Neuchâtel\nVer
 anstalter: ANCO\nVeranstalter-Link: https://www.anco-ne.ch\nTerminliste-De
 tails: https://www.o-l.ch/cgi-bin/fixtures?&mode=show&unique_id=2776
CATEGORIES:swiss orienteering,OL,Bike
LOCATION:Neuchâtel
CLASS:PUBLIC
STATUS:CONFIRMED
SEQUENCE:0
UID:fixtures-2776@o-l.ch
URL:https://www.o-l.ch/cgi-bin/fixtures?&mode=show&unique_id=2776
TRANSP:TRANSPARENT
END:VEVENT
BEGIN:VEVENT
DTSTART;VALUE=DATE:20051001
DTEND;VALUE=DATE:20051002
DTSTAMP:20041117T214000Z
LAST-MODIFIED:20041117T214000Z
CREATED:20041117T000000Z
SUMMARY:2. Pfäffiker Bike-O - OLG Päffikon (308)
DESCRIPTION:Region: ZH/SH\nOrt: Hittnau\nVeranstalter: OLG Päffikon\nVeran
 stalter-Link: http://www.solv.ch/olg-pfaeffikon/jahr05/bikeol05.html\nTerm
 inliste-Details: https://www.o-l.ch/cgi-bin/fixtures?&mode=show&unique_id=
 2662
CATEGORIES:swiss orienteering,OL,Bike
LOCATION:Hittnau
CLASS:PUBLIC
STATUS:CONFIRMED
SEQUENCE:0
UID:fixtures-2662@o-l.ch
URL:https://www.o-l.ch/cgi-bin/fixtures?&mode=show&unique_id=2662
TRANSP:TRANSPARENT
END:VEVENT
BEGIN:VEVENT
DTSTART;VALUE=DATE:20051022
DTEND;VALUE=DATE:20051023
DTSTAMP:20050401T153210Z
LAST-MODIFIED:20050401T153210Z
CREATED:20050401T000000Z
SUMMARY:3. Bike-O Bucheggberg - Bucheggberger Orientierungsläufer (310)
DESCRIPTION:Region: BE/SO\nOrt: Hessigkofen/SO\nVeranstalter: Bucheggberge
 r Orientierungsläufer\nVeranstalter-Link: http://www.bucheggbergerol.ch/as
 p/PNewsview.asp?key=297\nTerminliste-Details: https://www.o-l.ch/cgi-bin/f
 ixtures?&mode=show&unique_id=2889
CATEGORIES:swiss orienteering,OL,Bike
LOCATION:Hessigkofen/SO
CLASS:PUBLIC
STATUS:CONFIRMED
SEQUENCE:0
UID:fixtures-2889@o-l.ch
URL:https://www.o-l.ch/cgi-bin/fixtures?&mode=show&unique_id=2889
TRANSP:TRANSPARENT
END:VEVENT
END:VCALENDAR
