BEGIN:VCALENDAR
PRODID:-//Swiss Orienteering Calendar
VERSION:2.0
METHOD:PUBLISH
CALSCALE:GREGORIAN
X-WR-CALNAME:Swiss Orienteering Calendar
X-WR-TIMEZONE:Europe/Zurich
BEGIN:VEVENT
DTSTART;VALUE=DATE:20220129
DTEND;VALUE=DATE:20220130
DTSTAMP:20220106T185035Z
LAST-MODIFIED:20220106T185035Z
CREATED:20211031T151624Z
SUMMARY:Ski OL SM Kurzdistanz - OLG Hondrich (SC201)
DESCRIPTION:Region: BE/SO\nKarte: Grindelwald-Grund\nOrt: Schützenhaus Gri
 ndelwald\nKoordinaten: 645250 / 162975\nGeo-Koordinaten: 46.6164943573075,
  8.02937183238351\nKarte search.ch: https://map.search.ch/645250,162975?z=
 64\nGoogle Maps: https://maps.google.ch/maps?q=46.6164943573075,8.02937183
 238351\nVeranstalter: OLG Hondrich\nVeranstalter-Link: https://www.ski-o-s
 wiss.ch/ausschreibung?event=2122_beob\nMeldeschluss: Mo 24.01.2022\nAnmeld
 eportal:  \nTerminliste-Details: https://www.o-l.ch/cgi-bin/fixtures?&mode
 =show&unique_id=11427
CATEGORIES:swiss orienteering,OL,Ski
LOCATION:Schützenhaus Grindelwald
GEO:46.6164943573075;8.02937183238351
CLASS:PUBLIC
STATUS:CONFIRMED
SEQUENCE:0
UID:fixtures-11427@o-l.ch
URL:https://www.o-l.ch/cgi-bin/fixtures?&mode=show&unique_id=11427
TRANSP:TRANSPARENT
END:VEVENT
BEGIN:VEVENT
DTSTART;VALUE=DATE:20220130
DTEND;VALUE=DATE:20220131
DTSTAMP:20221208T164653Z
LAST-MODIFIED:20221208T164653Z
CREATED:20211031T151757Z
SUMMARY:Grindelwalder Ski OL - OLG Hondrich (SC202)
DESCRIPTION:Region: BE/SO\nKarte: Grindelwald-Grund\nOrt: Schützenhaus Gri
 ndelwald\nKoordinaten: 645250 / 162975\nGeo-Koordinaten: 46.6164943573075,
  8.02937183238351\nKarte search.ch: https://map.search.ch/645250,162975?z=
 64\nGoogle Maps: https://maps.google.ch/maps?q=46.6164943573075,8.02937183
 238351\nVeranstalter: OLG Hondrich\nVeranstalter-Link: https://www.ski-o-s
 wiss.ch/ausschreibung?event=2122_beob\nMeldeschluss: Mo 24.01.2022\nAnmeld
 eportal:  \nTerminliste-Details: https://www.o-l.ch/cgi-bin/fixtures?&mode
 =show&unique_id=11428
CATEGORIES:swiss orienteering,OL,Ski
LOCATION:Schützenhaus Grindelwald
GEO:46.6164943573075;8.02937183238351
CLASS:PUBLIC
STATUS:CONFIRMED
SEQUENCE:0
UID:fixtures-11428@o-l.ch
URL:https://www.o-l.ch/cgi-bin/fixtures?&mode=show&unique_id=11428
TRANSP:TRANSPARENT
END:VEVENT
BEGIN:VEVENT
DTSTART;VALUE=DATE:20220212
DTEND;VALUE=DATE:20220213
DTSTAMP:20220212T185432Z
LAST-MODIFIED:20220212T185432Z
CREATED:20211031T162807Z
SUMMARY:Ski OL SM Langdistanz - ol.biel.seeland / ANCO (SC204)
DESCRIPTION:Region: BE/SO\nKarte: Bugnenets\nOrt: Bugnenets\nKoordinaten: 
 563775 / 218050\nGeo-Koordinaten: 47.112451260615, 6.96134732652062\nKarte
  search.ch: https://map.search.ch/563775,218050?z=64\nGoogle Maps: https:/
 /maps.google.ch/maps?q=47.112451260615,6.96134732652062\nVeranstalter: ol.
 biel.seeland / ANCO\nVeranstalter-Link: https://www.ski-o-swiss.ch/ausschr
 eibung?event=2122_ne\nMeldeschluss: Mo 07.02.2022\nAnmeldeportal:  \nTermi
 nliste-Details: https://www.o-l.ch/cgi-bin/fixtures?&mode=show&unique_id=1
 1451
CATEGORIES:swiss orienteering,OL,Ski
LOCATION:Bugnenets
GEO:47.112451260615;6.96134732652062
CLASS:PUBLIC
STATUS:CONFIRMED
SEQUENCE:0
UID:fixtures-11451@o-l.ch
URL:https://www.o-l.ch/cgi-bin/fixtures?&mode=show&unique_id=11451
TRANSP:TRANSPARENT
END:VEVENT
BEGIN:VEVENT
DTSTART;VALUE=DATE:20220213
DTEND;VALUE=DATE:20220214
DTSTAMP:20220212T185434Z
LAST-MODIFIED:20220212T185434Z
CREATED:20211031T162716Z
SUMMARY:Neuenburger Ski OL (Mitteldistanz) - ol.biel.seeland / ANCO (SC203
 )
DESCRIPTION:Region: BE/SO\nKarte: Bugnenets\nOrt: Bugnenets\nKoordinaten: 
 563775 / 218050\nGeo-Koordinaten: 47.112451260615, 6.96134732652062\nKarte
  search.ch: https://map.search.ch/563775,218050?z=64\nGoogle Maps: https:/
 /maps.google.ch/maps?q=47.112451260615,6.96134732652062\nVeranstalter: ol.
 biel.seeland / ANCO\nVeranstalter-Link: https://www.ski-o-swiss.ch/ausschr
 eibung?event=2122_ne\nMeldeschluss: Mo 07.02.2022\nAnmeldeportal:  \nTermi
 nliste-Details: https://www.o-l.ch/cgi-bin/fixtures?&mode=show&unique_id=1
 1450
CATEGORIES:swiss orienteering,OL,Ski
LOCATION:Bugnenets
GEO:47.112451260615;6.96134732652062
CLASS:PUBLIC
STATUS:CONFIRMED
SEQUENCE:0
UID:fixtures-11450@o-l.ch
URL:https://www.o-l.ch/cgi-bin/fixtures?&mode=show&unique_id=11450
TRANSP:TRANSPARENT
END:VEVENT
BEGIN:VEVENT
DTSTART;VALUE=DATE:20221229
DTEND;VALUE=DATE:20221230
DTSTAMP:20221208T164721Z
LAST-MODIFIED:20221208T164721Z
CREATED:20220226T154319Z
SUMMARY:Gommer Ski-OL - Ski-O Swiss (SC205)
DESCRIPTION:Region: SR\nKarte: Obergoms\nKoordinaten: 668025 / 152000\nGeo
 -Koordinaten: 46.5158440904451, 8.32505775421589\nKarte search.ch: https:/
 /map.search.ch/668025,152000?z=64\nGoogle Maps: https://maps.google.ch/map
 s?q=46.5158440904451,8.32505775421589\nVeranstalter: Ski-O Swiss\nVeransta
 lter-Link: https://www.ski-o-swiss.ch/ausschreibung?event=2223_goms\nMelde
 schluss: Sa 24.12.2022\nAnmeldeportal:  \nTerminliste-Details: https://www
 .o-l.ch/cgi-bin/fixtures?&mode=show&unique_id=11719
CATEGORIES:swiss orienteering,OL,Ski
LOCATION:Obergoms
GEO:46.5158440904451;8.32505775421589
CLASS:PUBLIC
STATUS:CONFIRMED
SEQUENCE:0
UID:fixtures-11719@o-l.ch
URL:https://www.o-l.ch/cgi-bin/fixtures?&mode=show&unique_id=11719
TRANSP:TRANSPARENT
END:VEVENT
BEGIN:VEVENT
DTSTART;VALUE=DATE:20221230
DTEND;VALUE=DATE:20221231
DTSTAMP:20221208T164733Z
LAST-MODIFIED:20221208T164733Z
CREATED:20220226T154418Z
SUMMARY:Gommer Ski-OL - Ski-O Swiss (SC206)
DESCRIPTION:Region: SR\nKarte: Obergoms\nKoordinaten: 668000 / 152000\nGeo
 -Koordinaten: 46.5158466298844, 8.32473201208889\nKarte search.ch: https:/
 /map.search.ch/668000,152000?z=64\nGoogle Maps: https://maps.google.ch/map
 s?q=46.5158466298844,8.32473201208889\nVeranstalter: Ski-O Swiss\nVeransta
 lter-Link: https://www.ski-o-swiss.ch/ausschreibung?event=2223_goms\nMelde
 schluss: Sa 24.12.2022\nAnmeldeportal:  \nTerminliste-Details: https://www
 .o-l.ch/cgi-bin/fixtures?&mode=show&unique_id=11720
CATEGORIES:swiss orienteering,OL,Ski
LOCATION:Obergoms
GEO:46.5158466298844;8.32473201208889
CLASS:PUBLIC
STATUS:CONFIRMED
SEQUENCE:0
UID:fixtures-11720@o-l.ch
URL:https://www.o-l.ch/cgi-bin/fixtures?&mode=show&unique_id=11720
TRANSP:TRANSPARENT
END:VEVENT
END:VCALENDAR
