BEGIN:VCALENDAR
PRODID:-//Swiss Orienteering Calendar
VERSION:2.0
METHOD:PUBLISH
CALSCALE:GREGORIAN
X-WR-CALNAME:Swiss Orienteering Calendar
X-WR-TIMEZONE:Europe/Zurich
BEGIN:VEVENT
DTSTART;VALUE=DATE:20140112
DTEND;VALUE=DATE:20140113
DTSTAMP:20140108T220647Z
LAST-MODIFIED:20140108T220647Z
CREATED:20131030T090247Z
SUMMARY:*ABGESAGT* Ski-OL Training Amden - Ski-O Swiss (202)
DESCRIPTION:Region: NOS\nKarte: Arvenbühl\nVeranstalter: Ski-O Swiss\nTerm
 inliste-Details: https://www.o-l.ch/cgi-bin/fixtures?&mode=show&unique_id=
 7251
CATEGORIES:swiss orienteering,OL,Ski
LOCATION:Arvenbühl
CLASS:PUBLIC
STATUS:CONFIRMED
SEQUENCE:0
UID:fixtures-7251@o-l.ch
URL:https://www.o-l.ch/cgi-bin/fixtures?&mode=show&unique_id=7251
TRANSP:TRANSPARENT
END:VEVENT
BEGIN:VEVENT
DTSTART;VALUE=DATE:20140201
DTEND;VALUE=DATE:20140202
DTSTAMP:20140129T074715Z
LAST-MODIFIED:20140129T074715Z
CREATED:20131030T090148Z
SUMMARY:Ski-OL Kurz SM Les Prés-d'Orvin - ol.biel.seeland (201)
DESCRIPTION:Region: BE/SO\nKarte: Les Près-d'Orvin\nKoordinaten: 578125 / 
 221750\nGeo-Koordinaten: 47.1463615100516, 7.15023736224159\nKarte search.
 ch: https://map.search.ch/578125,221750?z=64\nGoogle Maps: https://maps.go
 ogle.ch/maps?q=47.1463615100516,7.15023736224159\nVeranstalter: ol.biel.se
 eland\nVeranstalter-Link: http://olbielseeland.ch/klub/skio-sm2014.html\nM
 eldeschluss: Mo 06.01.2014\nAnmeldeportal:  \nTerminliste-Details: https:/
 /www.o-l.ch/cgi-bin/fixtures?&mode=show&unique_id=7250
CATEGORIES:swiss orienteering,OL,Ski
LOCATION:Les Près-d'Orvin
GEO:47.1463615100516;7.15023736224159
CLASS:PUBLIC
STATUS:CONFIRMED
SEQUENCE:0
UID:fixtures-7250@o-l.ch
URL:https://www.o-l.ch/cgi-bin/fixtures?&mode=show&unique_id=7250
TRANSP:TRANSPARENT
END:VEVENT
BEGIN:VEVENT
DTSTART;VALUE=DATE:20140202
DTEND;VALUE=DATE:20140203
DTSTAMP:20140128T083414Z
LAST-MODIFIED:20140128T083414Z
CREATED:20131030T090513Z
SUMMARY:Ski-OL Lang SM Les Prés-d'Orvin - ol.biel.seeland (203)
DESCRIPTION:Region: BE/SO\nKarte: Les Prés-d'Orvin\nKoordinaten: 578125 / 
 221750\nGeo-Koordinaten: 47.1463615100516, 7.15023736224159\nKarte search.
 ch: https://map.search.ch/578125,221750?z=64\nGoogle Maps: https://maps.go
 ogle.ch/maps?q=47.1463615100516,7.15023736224159\nVeranstalter: ol.biel.se
 eland\nVeranstalter-Link: http://olbielseeland.ch/klub/skio-sm2014.html\nM
 eldeschluss: Mo 27.01.2014\nAnmeldeportal:  \nTerminliste-Details: https:/
 /www.o-l.ch/cgi-bin/fixtures?&mode=show&unique_id=7252
CATEGORIES:swiss orienteering,OL,Ski
LOCATION:Les Prés-d'Orvin
GEO:47.1463615100516;7.15023736224159
CLASS:PUBLIC
STATUS:CONFIRMED
SEQUENCE:0
UID:fixtures-7252@o-l.ch
URL:https://www.o-l.ch/cgi-bin/fixtures?&mode=show&unique_id=7252
TRANSP:TRANSPARENT
END:VEVENT
BEGIN:VEVENT
DTSTART;VALUE=DATE:20141229
DTEND;VALUE=DATE:20141230
DTSTAMP:20141110T011103Z
LAST-MODIFIED:20141110T011103Z
CREATED:20140912T074039Z
SUMMARY:Gommer Ski-OL - Ski-O Swiss
DESCRIPTION:Region: SR\nOrt: Obergesteln\nKoordinaten: 668025 / 151975\nGe
 o-Koordinaten: 46.5156192146751, 8.32505407452098\nKarte search.ch: https:
 //map.search.ch/668025,151975?z=64\nGoogle Maps: https://maps.google.ch/ma
 ps?q=46.5156192146751,8.32505407452098\nVeranstalter: Ski-O Swiss\nVeranst
 alter-Link: http://www.ski-o-swiss.ch/index.php/alle-termine/icalrepeat.de
 tail/2014/12/29/85/-/gommer-ski-ol\nMeldeschluss: Sa 27.12.2014\nAnmeldepo
 rtal:  \nTerminliste-Details: https://www.o-l.ch/cgi-bin/fixtures?&mode=sh
 ow&unique_id=7767
CATEGORIES:swiss orienteering,OL,Ski
LOCATION:Obergesteln
GEO:46.5156192146751;8.32505407452098
CLASS:PUBLIC
STATUS:CONFIRMED
SEQUENCE:0
UID:fixtures-7767@o-l.ch
URL:https://www.o-l.ch/cgi-bin/fixtures?&mode=show&unique_id=7767
TRANSP:TRANSPARENT
END:VEVENT
BEGIN:VEVENT
DTSTART;VALUE=DATE:20141230
DTEND;VALUE=DATE:20141231
DTSTAMP:20141110T011101Z
LAST-MODIFIED:20141110T011101Z
CREATED:20140912T074220Z
SUMMARY:Gommer Ski-OL - Ski-O Swiss
DESCRIPTION:Region: SR\nOrt: Obergesteln\nKoordinaten: 668025 / 151975\nGe
 o-Koordinaten: 46.5156192146751, 8.32505407452098\nKarte search.ch: https:
 //map.search.ch/668025,151975?z=64\nGoogle Maps: https://maps.google.ch/ma
 ps?q=46.5156192146751,8.32505407452098\nVeranstalter: Ski-O Swiss\nVeranst
 alter-Link: http://www.ski-o-swiss.ch/index.php/alle-termine/icalrepeat.de
 tail/2014/12/30/86/-/baschi-sprint-ski-ol\nMeldeschluss: Sa 27.12.2014\nAn
 meldeportal:  \nTerminliste-Details: https://www.o-l.ch/cgi-bin/fixtures?&
 mode=show&unique_id=7768
CATEGORIES:swiss orienteering,OL,Ski
LOCATION:Obergesteln
GEO:46.5156192146751;8.32505407452098
CLASS:PUBLIC
STATUS:CONFIRMED
SEQUENCE:0
UID:fixtures-7768@o-l.ch
URL:https://www.o-l.ch/cgi-bin/fixtures?&mode=show&unique_id=7768
TRANSP:TRANSPARENT
END:VEVENT
END:VCALENDAR
