BEGIN:VCALENDAR
PRODID:-//Swiss Orienteering Calendar
VERSION:2.0
METHOD:PUBLISH
CALSCALE:GREGORIAN
X-WR-CALNAME:Swiss Orienteering Calendar
X-WR-TIMEZONE:Europe/Zurich
BEGIN:VEVENT
DTSTART;VALUE=DATE:20050124
DTEND;VALUE=DATE:20050125
DTSTAMP:20041011T190846Z
LAST-MODIFIED:20041011T190846Z
CREATED:20041011T190846Z
SUMMARY:Junioren/Masters-WM, Jugend-EM, Elite - Ski-O Swiss
DESCRIPTION:Region: GL/GR\nKarte: S-chanf\nVeranstalter: Ski-O Swiss\nVera
 nstalter-Link: https://www.skiolwm05.ch\nTerminliste-Details: https://www.
 o-l.ch/cgi-bin/fixtures?&mode=show&unique_id=2564
CATEGORIES:swiss orienteering,OL,Ski
LOCATION:S-chanf
CLASS:PUBLIC
STATUS:CONFIRMED
SEQUENCE:0
UID:fixtures-2564@o-l.ch
URL:https://www.o-l.ch/cgi-bin/fixtures?&mode=show&unique_id=2564
TRANSP:TRANSPARENT
END:VEVENT
BEGIN:VEVENT
DTSTART;VALUE=DATE:20050125
DTEND;VALUE=DATE:20050126
DTSTAMP:20041010T162601Z
LAST-MODIFIED:20041010T162601Z
CREATED:20041010T000000Z
SUMMARY:Junioren/Masters-WM, Jugend-EM, Elite - Ski-O Swiss
DESCRIPTION:Region: GL/GR\nKarte: S-chanf\nVeranstalter: Ski-O Swiss\nVera
 nstalter-Link: https://www.skiolwm05.ch\nTerminliste-Details: https://www.
 o-l.ch/cgi-bin/fixtures?&mode=show&unique_id=2555
CATEGORIES:swiss orienteering,OL,Ski
LOCATION:S-chanf
CLASS:PUBLIC
STATUS:CONFIRMED
SEQUENCE:0
UID:fixtures-2555@o-l.ch
URL:https://www.o-l.ch/cgi-bin/fixtures?&mode=show&unique_id=2555
TRANSP:TRANSPARENT
END:VEVENT
BEGIN:VEVENT
DTSTART;VALUE=DATE:20050127
DTEND;VALUE=DATE:20050128
DTSTAMP:20041010T162616Z
LAST-MODIFIED:20041010T162616Z
CREATED:20041010T000000Z
SUMMARY:Junioren/Masters-WM, Jugend-EM, Elite - Ski-O Swiss
DESCRIPTION:Region: GL/GR\nKarte: S-chanf\nVeranstalter: Ski-O Swiss\nVera
 nstalter-Link: https://www.skiolwm05.ch\nTerminliste-Details: https://www.
 o-l.ch/cgi-bin/fixtures?&mode=show&unique_id=2556
CATEGORIES:swiss orienteering,OL,Ski
LOCATION:S-chanf
CLASS:PUBLIC
STATUS:CONFIRMED
SEQUENCE:0
UID:fixtures-2556@o-l.ch
URL:https://www.o-l.ch/cgi-bin/fixtures?&mode=show&unique_id=2556
TRANSP:TRANSPARENT
END:VEVENT
BEGIN:VEVENT
DTSTART;VALUE=DATE:20050128
DTEND;VALUE=DATE:20050129
DTSTAMP:20041010T162630Z
LAST-MODIFIED:20041010T162630Z
CREATED:20041010T000000Z
SUMMARY:Junioren/Masters-WM, Jugend-EM, Elite - Ski-O Swiss
DESCRIPTION:Region: GL/GR\nKarte: S-chanf\nVeranstalter: Ski-O Swiss\nVera
 nstalter-Link: https://www.skiolwm05.ch\nTerminliste-Details: https://www.
 o-l.ch/cgi-bin/fixtures?&mode=show&unique_id=2557
CATEGORIES:swiss orienteering,OL,Ski
LOCATION:S-chanf
CLASS:PUBLIC
STATUS:CONFIRMED
SEQUENCE:0
UID:fixtures-2557@o-l.ch
URL:https://www.o-l.ch/cgi-bin/fixtures?&mode=show&unique_id=2557
TRANSP:TRANSPARENT
END:VEVENT
BEGIN:VEVENT
DTSTART;VALUE=DATE:20050205
DTEND;VALUE=DATE:20050206
DTSTAMP:20041026T083920Z
LAST-MODIFIED:20041026T083920Z
CREATED:20041010T000000Z
SUMMARY:Ski-OL Schweizermeisterschaften - ANCO (201)
DESCRIPTION:Region: SR\nVeranstalter: ANCO\nVeranstalter-Link: http://www.
 anco-ne.ch\nTerminliste-Details: https://www.o-l.ch/cgi-bin/fixtures?&mode
 =show&unique_id=2587
CATEGORIES:swiss orienteering,OL,Ski
CLASS:PUBLIC
STATUS:CONFIRMED
SEQUENCE:0
UID:fixtures-2587@o-l.ch
URL:https://www.o-l.ch/cgi-bin/fixtures?&mode=show&unique_id=2587
TRANSP:TRANSPARENT
END:VEVENT
BEGIN:VEVENT
DTSTART;VALUE=DATE:20050206
DTEND;VALUE=DATE:20050207
DTSTAMP:20041026T083945Z
LAST-MODIFIED:20041026T083945Z
CREATED:20041010T000000Z
SUMMARY:Nat. Ski-OL - ANCO (202)
DESCRIPTION:Region: SR\nVeranstalter: ANCO\nVeranstalter-Link: http://www.
 anco-ne.ch\nTerminliste-Details: https://www.o-l.ch/cgi-bin/fixtures?&mode
 =show&unique_id=2588
CATEGORIES:swiss orienteering,OL,Ski
CLASS:PUBLIC
STATUS:CONFIRMED
SEQUENCE:0
UID:fixtures-2588@o-l.ch
URL:https://www.o-l.ch/cgi-bin/fixtures?&mode=show&unique_id=2588
TRANSP:TRANSPARENT
END:VEVENT
BEGIN:VEVENT
DTSTART;VALUE=DATE:20051210
DTEND;VALUE=DATE:20051211
DTSTAMP:20051101T222049Z
LAST-MODIFIED:20051101T222049Z
CREATED:20051002T000000Z
SUMMARY:Ski-OL Campra - Ski-O Swiss, Ski-OL Kader (205)
DESCRIPTION:Region: TI\nKarte: Campra\nVeranstalter: Ski-O Swiss, Ski-OL K
 ader\nVeranstalter-Link: http://www.solv.ch/ski-ol/ausschreibung_campra.ht
 ml\nTerminliste-Details: https://www.o-l.ch/cgi-bin/fixtures?&mode=show&un
 ique_id=3104
CATEGORIES:swiss orienteering,OL,Ski
LOCATION:Campra
CLASS:PUBLIC
STATUS:CONFIRMED
SEQUENCE:0
UID:fixtures-3104@o-l.ch
URL:https://www.o-l.ch/cgi-bin/fixtures?&mode=show&unique_id=3104
TRANSP:TRANSPARENT
END:VEVENT
BEGIN:VEVENT
DTSTART;VALUE=DATE:20051211
DTEND;VALUE=DATE:20051212
DTSTAMP:20051101T222116Z
LAST-MODIFIED:20051101T222116Z
CREATED:20051002T000000Z
SUMMARY:Sprint Ski-OL Campra - Ski-O Swiss, Ski-OL Kader (206)
DESCRIPTION:Region: TI\nKarte: Campra\nVeranstalter: Ski-O Swiss, Ski-OL K
 ader\nVeranstalter-Link: http://www.solv.ch/ski-ol/ausschreibung_campra.ht
 ml\nTerminliste-Details: https://www.o-l.ch/cgi-bin/fixtures?&mode=show&un
 ique_id=3105
CATEGORIES:swiss orienteering,OL,Ski
LOCATION:Campra
CLASS:PUBLIC
STATUS:CONFIRMED
SEQUENCE:0
UID:fixtures-3105@o-l.ch
URL:https://www.o-l.ch/cgi-bin/fixtures?&mode=show&unique_id=3105
TRANSP:TRANSPARENT
END:VEVENT
BEGIN:VEVENT
DTSTART;VALUE=DATE:20051229
DTEND;VALUE=DATE:20051230
DTSTAMP:20051002T112437Z
LAST-MODIFIED:20051002T112437Z
CREATED:20041010T000000Z
SUMMARY:4. Engadiner Ski-OL - Ski-O Swiss (203)
DESCRIPTION:Region: GL/GR\nKarte: S-chanf\nVeranstalter: Ski-O Swiss\nVera
 nstalter-Link: http://www.solv.ch/ski-ol/ausschreibung_engadiner.html\nTer
 minliste-Details: https://www.o-l.ch/cgi-bin/fixtures?&mode=show&unique_id
 =3056
CATEGORIES:swiss orienteering,OL,Ski
LOCATION:S-chanf
CLASS:PUBLIC
STATUS:CONFIRMED
SEQUENCE:0
UID:fixtures-3056@o-l.ch
URL:https://www.o-l.ch/cgi-bin/fixtures?&mode=show&unique_id=3056
TRANSP:TRANSPARENT
END:VEVENT
BEGIN:VEVENT
DTSTART;VALUE=DATE:20051230
DTEND;VALUE=DATE:20051231
DTSTAMP:20051101T221702Z
LAST-MODIFIED:20051101T221702Z
CREATED:20051002T000000Z
SUMMARY:Engadiner Sprint Ski-OL - Ski-O Swiss (204)
DESCRIPTION:Region: GL/GR\nKarte: S-chanf\nVeranstalter: Ski-O Swiss\nVera
 nstalter-Link: http://www.solv.ch/ski-ol/ausschreibung_engadiner.html\nTer
 minliste-Details: https://www.o-l.ch/cgi-bin/fixtures?&mode=show&unique_id
 =3102
CATEGORIES:swiss orienteering,OL,Ski
LOCATION:S-chanf
CLASS:PUBLIC
STATUS:CONFIRMED
SEQUENCE:0
UID:fixtures-3102@o-l.ch
URL:https://www.o-l.ch/cgi-bin/fixtures?&mode=show&unique_id=3102
TRANSP:TRANSPARENT
END:VEVENT
END:VCALENDAR
